BEGIN:VCALENDAR
VERSION:2.0
PRODID:-//KULCHA SHOK MUZIK - ECPv6.15.13//NONSGML v1.0//EN
CALSCALE:GREGORIAN
METHOD:PUBLISH
X-WR-CALNAME:KULCHA SHOK MUZIK
X-ORIGINAL-URL:https://kulchashok.com
X-WR-CALDESC:Events for KULCHA SHOK MUZIK
REFRESH-INTERVAL;VALUE=DURATION:PT1H
X-Robots-Tag:noindex
X-PUBLISHED-TTL:PT1H
BEGIN:VTIMEZONE
TZID:America/New_York
BEGIN:DAYLIGHT
TZOFFSETFROM:-0500
TZOFFSETTO:-0400
TZNAME:EDT
DTSTART:20170312T070000
END:DAYLIGHT
BEGIN:STANDARD
TZOFFSETFROM:-0400
TZOFFSETTO:-0500
TZNAME:EST
DTSTART:20171105T060000
END:STANDARD
BEGIN:DAYLIGHT
TZOFFSETFROM:-0500
TZOFFSETTO:-0400
TZNAME:EDT
DTSTART:20180311T070000
END:DAYLIGHT
BEGIN:STANDARD
TZOFFSETFROM:-0400
TZOFFSETTO:-0500
TZNAME:EST
DTSTART:20181104T060000
END:STANDARD
BEGIN:DAYLIGHT
TZOFFSETFROM:-0500
TZOFFSETTO:-0400
TZNAME:EDT
DTSTART:20190310T070000
END:DAYLIGHT
BEGIN:STANDARD
TZOFFSETFROM:-0400
TZOFFSETTO:-0500
TZNAME:EST
DTSTART:20191103T060000
END:STANDARD
END:VTIMEZONE
BEGIN:VEVENT
DTSTART;TZID=America/New_York:20181202T140000
DTEND;TZID=America/New_York:20181203T000000
DTSTAMP:20260423T211440
CREATED:20181025T042853Z
LAST-MODIFIED:20181025T042853Z
UID:7695-1543759200-1543795200@kulchashok.com
SUMMARY:KULCHA SHOK REGGAE SUNDAYS A.K.A. CHURCH @ THE YARD
DESCRIPTION:Sunday December 2nd\, 2018 Kulcha Shok Reggae Sundays A.K.A. Church is held at the beautiful outdoor venue Wynwood Yard. Live music from E.N. Young and as always The Kulcha Shok Crew. Bands Play 6-7pm & 8-9pm\, otherwise it's DJ time with Lance-O vibing every 4-6pm. Every 1st Sunday is Kulcha Kids! \n  \nReggae Sundays\, A.K.A Church promotes reggae music with live bands and Djs every Sunday afternoon into the evening. Enjoy selections by Lance-O of Kulcha Shok Muzik & the Kulcha Shok Crew: Selecta BinBin\, Galaxy Sound + special guest DJs & performers weekly. Produced by Kulcha Shok Muzik and broadcasted live each week on Kulcha Shok Radio as well as simulcasted on Shake 94.3\, Tune In! Every Sunday @ Wynwood Yard 2pm-12am. All ages welcome and encouraged!
URL:https://kulchashok.com/event/kulcha-shok-reggae-sundays-a-k-a-church-the-yard-11/
LOCATION:Wynwood Yard\, 56 NW 29th Street\, Miami\, FL\, United States
CATEGORIES:Featured,Reggae,Surf
ATTACH;FMTTYPE=image/jpeg:https://kulchashok.com/wp-content/uploads/2018/10/Dec-2nd.jpg
END:VEVENT
BEGIN:VEVENT
DTSTART;TZID=America/New_York:20181209T140000
DTEND;TZID=America/New_York:20181210T020000
DTSTAMP:20260423T211440
CREATED:20181025T131354Z
LAST-MODIFIED:20181127T031600Z
UID:7698-1544364000-1544407200@kulchashok.com
SUMMARY:KULCHA SHOK REGGAE SUNDAYS A.K.A. CHURCH @ THE YARD
DESCRIPTION:Sunday December 9th\, 2018 Kulcha Shok Reggae Sundays A.K.A. Church celebrates Art Basel at the Wynwood Yard. Join us for a day of art activities and of course Live music! This year's line-up will keep you dancing and features Ras Kokay and the Truth\, Jahfe and Roger George and the Hyryze Band!! As always The Kulcha Shok Crew. DJ's start at 2:00 pm\, live performances at 3:00pm\,  and as always Lance-O vibing live on the radio every 4-6pm. This and every 2nd Sunday is All-Vinyl hosted by Peppabox and Kulcha Shok\, and stay late for our special guest all the way from Isreal\, My Lord Sound featuring Ellen G and Ranking Levy. \nKids are invited to paint on our skateboards from 2-6 pm! \nReggae Sundays\, A.K.A Church promotes reggae music with live bands and Djs every Sunday afternoon into the evening. Enjoy selections by Lance-O of Kulcha Shok Muzik & the Kulcha Shok Crew:  Ricky D & Galaxy Sound\, Selecta BinBin\, DJ Zoodid Lion+ special guest DJs & performers weekly. Produced by Kulcha Shok Muzik and broadcasted live each week on Kulcha Shok Radio as well as simulcasted on Shake 94.3\, Tune In! Every Sunday @ Wynwood Yard 2pm-12am\, but this special Art Basel edition runs till 2 am.  All ages welcome and encouraged!
URL:https://kulchashok.com/event/kulcha-shok-reggae-sundays-a-k-a-church-the-yard-12/
LOCATION:Wynwood Yard\, 56 NW 29th Street\, Miami\, FL\, United States
CATEGORIES:Featured,Reggae,Surf
ATTACH;FMTTYPE=image/jpeg:https://kulchashok.com/wp-content/uploads/2018/10/Art-Basel.jpg
END:VEVENT
BEGIN:VEVENT
DTSTART;TZID=America/New_York:20181216T140000
DTEND;TZID=America/New_York:20181217T000000
DTSTAMP:20260423T211440
CREATED:20181025T132023Z
LAST-MODIFIED:20181025T132023Z
UID:7700-1544968800-1545004800@kulchashok.com
SUMMARY:KULCHA SHOK REGGAE SUNDAYS A.K.A. CHURCH @ THE YARD
DESCRIPTION:Sunday December 16th\, 2018 Kulcha Shok Reggae Sundays A.K.A. Church is held at the beautiful outdoor venue Wynwood Yard. Live music from Sowflo and as always The Kulcha Shok Crew. Bands Play 6-7pm & 8-9pm\, otherwise it's DJ time with Lance-O vibing every 4-6pm. Every 3rd Sunday is Jah Surf! \n  \nReggae Sundays\, A.K.A Church promotes reggae music with live bands and Djs every Sunday afternoon into the evening. Enjoy selections by Lance-O of Kulcha Shok Muzik & the Kulcha Shok Crew: Selecta BinBin\, Galaxy Sound + special guest DJs & performers weekly. Produced by Kulcha Shok Muzik and broadcasted live each week on Kulcha Shok Radio as well as simulcasted on Shake 94.3\, Tune In! Every Sunday @ Wynwood Yard 2pm-12am. All ages welcome and encouraged!
URL:https://kulchashok.com/event/kulcha-shok-reggae-sundays-a-k-a-church-the-yard-13/
LOCATION:Wynwood Yard\, 56 NW 29th Street\, Miami\, FL\, United States
CATEGORIES:Featured,Reggae,Surf
ATTACH;FMTTYPE=image/jpeg:https://kulchashok.com/wp-content/uploads/2018/10/Dec-16th.jpg
END:VEVENT
BEGIN:VEVENT
DTSTART;TZID=America/New_York:20181223T140000
DTEND;TZID=America/New_York:20181224T000000
DTSTAMP:20260423T211440
CREATED:20181025T132226Z
LAST-MODIFIED:20181025T132357Z
UID:7696-1545573600-1545609600@kulchashok.com
SUMMARY:KULCHA SHOK REGGAE SUNDAYS A.K.A. CHURCH @ THE YARD
DESCRIPTION:Sunday December 23rd\, 2018 Kulcha Shok Reggae Sundays A.K.A. Church is held at the beautiful outdoor venue Wynwood Yard. Live music from EarthKry\, and as always The Kulcha Shok Crew. Bands Play 6-7pm & 8-9pm\, otherwise it's DJ time with Lance-O vibing every 4-6pm. Every 4th Sunday is Kulcha Latino\, with a focus on Spanish and Latin Reggae Music. \n  \nReggae Sundays\, A.K.A Church promotes reggae music with live bands and Djs every Sunday afternoon into the evening. Enjoy selections by Lance-O of Kulcha Shok Muzik & the Kulcha Shok Crew: Selecta BinBin\, Galaxy Sound + special guest DJs & performers weekly. Produced by Kulcha Shok Muzik and broadcasted live each week on Kulcha Shok Radio as well as simulcasted on Shake 94.3\, Tune In! Every Sunday @ Wynwood Yard 2pm-12am. All ages welcome and encouraged!
URL:https://kulchashok.com/event/kulcha-shok-reggae-sundays-a-k-a-church-the-yard-14/
LOCATION:Wynwood Yard\, 56 NW 29th Street\, Miami\, FL\, United States
CATEGORIES:Featured,Reggae,Surf
ATTACH;FMTTYPE=image/jpeg:https://kulchashok.com/wp-content/uploads/2018/10/Dec-23.jpg
END:VEVENT
BEGIN:VEVENT
DTSTART;TZID=America/New_York:20181230T140000
DTEND;TZID=America/New_York:20181231T000000
DTSTAMP:20260423T211440
CREATED:20181025T132712Z
LAST-MODIFIED:20181025T132712Z
UID:7703-1546178400-1546214400@kulchashok.com
SUMMARY:KULCHA SHOK REGGAE SUNDAYS A.K.A. CHURCH @ THE YARD
DESCRIPTION:Sunday December 30th\, 2018 Kulcha Shok Reggae Sundays A.K.A. Church is held at the beautiful outdoor venue Wynwood Yard. Live music from Spred the Dub\, and as always The Kulcha Shok Crew. Bands Play 6-7pm & 8-9pm\, otherwise it's DJ time with Lance-O vibing every 4-6pm. Every 5th Sunday is Skavalution\, with a focus on Ska and Rocksteady Muzik. \n  \nReggae Sundays\, A.K.A Church promotes reggae music with live bands and Djs every Sunday afternoon into the evening. Enjoy selections by Lance-O of Kulcha Shok Muzik & the Kulcha Shok Crew: Ricky D of Galaxy Sound\, Selecta BinBin\, Zoodid Lion + special guest DJs & performers weekly. Produced by Kulcha Shok Muzik and broadcasted live each week on Kulcha Shok Radio as well as simulcasted on Shake 94.3\, Tune In! Every Sunday @ Wynwood Yard 2pm-12am. All ages welcome and encouraged!
URL:https://kulchashok.com/event/kulcha-shok-reggae-sundays-a-k-a-church-the-yard-15/
LOCATION:Wynwood Yard\, 56 NW 29th Street\, Miami\, FL\, United States
CATEGORIES:Featured,Reggae,Surf
ATTACH;FMTTYPE=image/jpeg:https://kulchashok.com/wp-content/uploads/2018/10/December-30.jpg
END:VEVENT
END:VCALENDAR