BEGIN:VCALENDAR
VERSION:2.0
PRODID:-//KULCHA SHOK MUZIK - ECPv6.15.13//NONSGML v1.0//EN
CALSCALE:GREGORIAN
METHOD:PUBLISH
X-ORIGINAL-URL:https://kulchashok.com
X-WR-CALDESC:Events for KULCHA SHOK MUZIK
REFRESH-INTERVAL;VALUE=DURATION:PT1H
X-Robots-Tag:noindex
X-PUBLISHED-TTL:PT1H
BEGIN:VTIMEZONE
TZID:America/New_York
BEGIN:DAYLIGHT
TZOFFSETFROM:-0500
TZOFFSETTO:-0400
TZNAME:EDT
DTSTART:20180311T070000
END:DAYLIGHT
BEGIN:STANDARD
TZOFFSETFROM:-0400
TZOFFSETTO:-0500
TZNAME:EST
DTSTART:20181104T060000
END:STANDARD
BEGIN:DAYLIGHT
TZOFFSETFROM:-0500
TZOFFSETTO:-0400
TZNAME:EDT
DTSTART:20190310T070000
END:DAYLIGHT
BEGIN:STANDARD
TZOFFSETFROM:-0400
TZOFFSETTO:-0500
TZNAME:EST
DTSTART:20191103T060000
END:STANDARD
BEGIN:DAYLIGHT
TZOFFSETFROM:-0500
TZOFFSETTO:-0400
TZNAME:EDT
DTSTART:20200308T070000
END:DAYLIGHT
BEGIN:STANDARD
TZOFFSETFROM:-0400
TZOFFSETTO:-0500
TZNAME:EST
DTSTART:20201101T060000
END:STANDARD
END:VTIMEZONE
BEGIN:VEVENT
DTSTART;TZID=America/New_York:20190216T180000
DTEND;TZID=America/New_York:20190217T180000
DTSTAMP:20260423T191816
CREATED:20190130T154033Z
LAST-MODIFIED:20190130T154033Z
UID:8215-1550340000-1550426400@kulchashok.com
SUMMARY:3rd ANNUAL "OS FEST" - FEBRUARY 16th
DESCRIPTION:Kulch Shok Muzik Presents The 3rd Annual Osfest: Honoring Oswald "Ham" Caines\nFeb. 16th\, 2019\nJoin us for a Reggae Block Party at Main St and Lemon Ave in Sarasota\nHosted by Lance-O with Musical Guests:\nJah Movement\, Caribbean Vibes\, Jamming G's\, Army Gideon\, Nostaljah & more.\n$5 wristband donation\nKulcha Shok Merch Tent and Krewe will be there.
URL:https://kulchashok.com/event/3rd-annual-os-fest-february-16th/
LOCATION:The Gator Club\, 1490 Main St\, Sarasota\, FL\, 34236\, United States
CATEGORIES:Featured,Reggae
ATTACH;FMTTYPE=image/png:https://kulchashok.com/wp-content/uploads/2019/01/OS-Fest.png
END:VEVENT
END:VCALENDAR