BEGIN:VCALENDAR
VERSION:2.0
PRODID:-//KULCHA SHOK MUZIK - ECPv6.15.13//NONSGML v1.0//EN
CALSCALE:GREGORIAN
METHOD:PUBLISH
X-ORIGINAL-URL:https://kulchashok.com
X-WR-CALDESC:Events for KULCHA SHOK MUZIK
REFRESH-INTERVAL;VALUE=DURATION:PT1H
X-Robots-Tag:noindex
X-PUBLISHED-TTL:PT1H
BEGIN:VTIMEZONE
TZID:America/New_York
BEGIN:DAYLIGHT
TZOFFSETFROM:-0500
TZOFFSETTO:-0400
TZNAME:EDT
DTSTART:20180311T070000
END:DAYLIGHT
BEGIN:STANDARD
TZOFFSETFROM:-0400
TZOFFSETTO:-0500
TZNAME:EST
DTSTART:20181104T060000
END:STANDARD
BEGIN:DAYLIGHT
TZOFFSETFROM:-0500
TZOFFSETTO:-0400
TZNAME:EDT
DTSTART:20190310T070000
END:DAYLIGHT
BEGIN:STANDARD
TZOFFSETFROM:-0400
TZOFFSETTO:-0500
TZNAME:EST
DTSTART:20191103T060000
END:STANDARD
BEGIN:DAYLIGHT
TZOFFSETFROM:-0500
TZOFFSETTO:-0400
TZNAME:EDT
DTSTART:20200308T070000
END:DAYLIGHT
BEGIN:STANDARD
TZOFFSETFROM:-0400
TZOFFSETTO:-0500
TZNAME:EST
DTSTART:20201101T060000
END:STANDARD
END:VTIMEZONE
BEGIN:VEVENT
DTSTART;TZID=America/New_York:20190209T110000
DTEND;TZID=America/New_York:20190210T180000
DTSTAMP:20260423T191833
CREATED:20190130T155347Z
LAST-MODIFIED:20190130T155451Z
UID:8218-1549710000-1549821600@kulchashok.com
SUMMARY:20th ANNUAL GARLIC FEST - February 9th & 10th
DESCRIPTION:Kulcha Shok is proud to join the Best Stinkin Party in Florida with their Reggae Inspired theme this year at the 20th Annual Garlic Fest !\nFebruary 9th & 10th\, 2019\nJohn Prince Park\n4759 South Congress Avenue\nLake Worth\, Florida 33460\nSaturday\, February 9th:\nLance-O will MC & live music by:\nStan Steele\nEl Dub\nFabulous Fleetwoods\nBrothers United\nMighty Mighty Bosstones\nSunday\, February 10th:\nStrange Brew\nThe Resolvers\nSteel Pulse\nClick here for early bird tickets.
URL:https://kulchashok.com/event/20th-annual-garlic-fest-february-9th-10th/
LOCATION:John Prince Park\, 4759 South Congress Avenue\, Lake Worth\, FL\, 33420\, United States
CATEGORIES:Featured,Reggae
ATTACH;FMTTYPE=image/jpeg:https://kulchashok.com/wp-content/uploads/2019/01/garlic-fest-both.jpg
END:VEVENT
END:VCALENDAR